BEGIN:VCALENDAR
VERSION:2.0
PRODID:-//AOPA Luxembourg - ECPv5.4.0//NONSGML v1.0//EN
CALSCALE:GREGORIAN
METHOD:PUBLISH
X-WR-CALNAME:AOPA Luxembourg
X-ORIGINAL-URL:https://www.aopa.lu
X-WR-CALDESC:Events for AOPA Luxembourg
BEGIN:VTIMEZONE
TZID:Europe/Luxembourg
BEGIN:DAYLIGHT
TZOFFSETFROM:+0100
TZOFFSETTO:+0200
TZNAME:CEST
DTSTART:20190331T010000
END:DAYLIGHT
BEGIN:STANDARD
TZOFFSETFROM:+0200
TZOFFSETTO:+0100
TZNAME:CET
DTSTART:20191027T010000
END:STANDARD
END:VTIMEZONE
BEGIN:VEVENT
DTSTART;TZID=Europe/Luxembourg:20190222T080000
DTEND;TZID=Europe/Luxembourg:20190222T170000
DTSTAMP:20210423T183422
CREATED:20190222T143217Z
LAST-MODIFIED:20190222T143217Z
UID:1420-1550822400-1550854800@www.aopa.lu
SUMMARY:Event: World Championship ANR - Air Navigation Race Portugal
DESCRIPTION:
URL:https://www.aopa.lu/index.php/event/event-world-championship-anr-air-navigation-race-portugal-2/
ATTACH;FMTTYPE=image/jpeg:https://www.aopa.lu/wp-content/uploads/index-e1550845498488.jpg
END:VEVENT
END:VCALENDAR