BEGIN:VCALENDAR
VERSION:2.0
PRODID:-//AOPA Luxembourg - ECPv5.4.0//NONSGML v1.0//EN
CALSCALE:GREGORIAN
METHOD:PUBLISH
X-WR-CALNAME:AOPA Luxembourg
X-ORIGINAL-URL:https://www.aopa.lu
X-WR-CALDESC:Events for AOPA Luxembourg
BEGIN:VTIMEZONE
TZID:Europe/Luxembourg
BEGIN:DAYLIGHT
TZOFFSETFROM:+0100
TZOFFSETTO:+0200
TZNAME:CEST
DTSTART:20190331T010000
END:DAYLIGHT
BEGIN:STANDARD
TZOFFSETFROM:+0200
TZOFFSETTO:+0100
TZNAME:CET
DTSTART:20191027T010000
END:STANDARD
END:VTIMEZONE
BEGIN:VEVENT
DTSTART;TZID=Europe/Luxembourg:20190202T190000
DTEND;TZID=Europe/Luxembourg:20190202T230000
DTSTAMP:20210423T183353
CREATED:20190123T205312Z
LAST-MODIFIED:20190222T141211Z
UID:891-1549134000-1549148400@www.aopa.lu
SUMMARY:Event: UPL-AOPA AG 2019 Dinner
DESCRIPTION:UPL-AOPA AG 2019 Dinner
URL:https://www.aopa.lu/index.php/event/event-upl-aopa-ag-2019-dinner/
ATTACH;FMTTYPE=image/png:https://www.aopa.lu/wp-content/uploads/Logo-iAOPA-Luxembourg-250.png
ORGANIZER;CN="UPL-AOPA":MAILTO:info@upl-aopa.lu
END:VEVENT
END:VCALENDAR