BEGIN:VCALENDAR
VERSION:2.0
PRODID:-//AOPA Luxembourg - ECPv5.4.0//NONSGML v1.0//EN
CALSCALE:GREGORIAN
METHOD:PUBLISH
X-WR-CALNAME:AOPA Luxembourg
X-ORIGINAL-URL:https://www.aopa.lu
X-WR-CALDESC:Events for AOPA Luxembourg
BEGIN:VTIMEZONE
TZID:Europe/Luxembourg
BEGIN:DAYLIGHT
TZOFFSETFROM:+0100
TZOFFSETTO:+0200
TZNAME:CEST
DTSTART:20190331T010000
END:DAYLIGHT
BEGIN:STANDARD
TZOFFSETFROM:+0200
TZOFFSETTO:+0100
TZNAME:CET
DTSTART:20191027T010000
END:STANDARD
END:VTIMEZONE
BEGIN:VEVENT
DTSTART;VALUE=DATE:20190427
DTEND;VALUE=DATE:20190428
DTSTAMP:20210423T183436
CREATED:20190222T140656Z
LAST-MODIFIED:20190222T140656Z
UID:1406-1556323200-1556409599@www.aopa.lu
SUMMARY:Event: Season’s opening Aero-Sport 2019
DESCRIPTION:
URL:https://www.aopa.lu/index.php/event/event-seasons-opening-aero-sport-2019-2/
ATTACH;FMTTYPE=image/png:https://www.aopa.lu/wp-content/uploads/Logo-LFTA-aero-sport.png
END:VEVENT
END:VCALENDAR