BEGIN:VCALENDAR
VERSION:2.0
PRODID:-//AOPA Luxembourg - ECPv5.4.0//NONSGML v1.0//EN
CALSCALE:GREGORIAN
METHOD:PUBLISH
X-WR-CALNAME:AOPA Luxembourg
X-ORIGINAL-URL:https://www.aopa.lu
X-WR-CALDESC:Events for AOPA Luxembourg
BEGIN:VTIMEZONE
TZID:Europe/Luxembourg
BEGIN:DAYLIGHT
TZOFFSETFROM:+0100
TZOFFSETTO:+0200
TZNAME:CEST
DTSTART:20190331T010000
END:DAYLIGHT
BEGIN:STANDARD
TZOFFSETFROM:+0200
TZOFFSETTO:+0100
TZNAME:CET
DTSTART:20191027T010000
END:STANDARD
END:VTIMEZONE
BEGIN:VEVENT
DTSTART;TZID=Europe/Luxembourg:20190330T160000
DTEND;TZID=Europe/Luxembourg:20190330T200000
DTSTAMP:20210423T183504
CREATED:20190222T135436Z
LAST-MODIFIED:20190222T135824Z
UID:980-1553961600-1553976000@www.aopa.lu
SUMMARY:Event: General Assembly FAL
DESCRIPTION:General Assembly Fédération Aéronautique Luxembourgeoise
URL:https://www.aopa.lu/index.php/event/event-general-assembly-fal/
ATTACH;FMTTYPE=image/png:https://www.aopa.lu/wp-content/uploads/Logo-FAL.png
ORGANIZER;CN="FAL":MAILTO:fal@pt.lu
END:VEVENT
END:VCALENDAR