BEGIN:VCALENDAR
VERSION:2.0
PRODID:-//AOPA Luxembourg - ECPv5.4.0//NONSGML v1.0//EN
CALSCALE:GREGORIAN
METHOD:PUBLISH
X-WR-CALNAME:AOPA Luxembourg
X-ORIGINAL-URL:https://www.aopa.lu
X-WR-CALDESC:Events for AOPA Luxembourg
BEGIN:VTIMEZONE
TZID:Europe/Luxembourg
BEGIN:DAYLIGHT
TZOFFSETFROM:+0100
TZOFFSETTO:+0200
TZNAME:CEST
DTSTART:20190331T010000
END:DAYLIGHT
BEGIN:STANDARD
TZOFFSETFROM:+0200
TZOFFSETTO:+0100
TZNAME:CET
DTSTART:20191027T010000
END:STANDARD
END:VTIMEZONE
BEGIN:VEVENT
DTSTART;TZID=Europe/Luxembourg:20190323T173000
DTEND;TZID=Europe/Luxembourg:20190323T190000
DTSTAMP:20210423T183524
CREATED:20190222T132943Z
LAST-MODIFIED:20190222T132943Z
UID:1403-1553362200-1553367600@www.aopa.lu
SUMMARY:Event: General Assembly Aeroplume
DESCRIPTION:
URL:https://www.aopa.lu/index.php/event/event-general-assembly-aeroplume-2/
ATTACH;FMTTYPE=image/png:https://www.aopa.lu/wp-content/uploads/Aeroplume-Logo-e1550842927380.png
ORGANIZER;CN="Aeroplume":MAILTO:aeroplume@pt.lu
END:VEVENT
END:VCALENDAR