BEGIN:VCALENDAR
VERSION:2.0
PRODID:-//AOPA Luxembourg - ECPv5.4.0//NONSGML v1.0//EN
CALSCALE:GREGORIAN
METHOD:PUBLISH
X-WR-CALNAME:AOPA Luxembourg
X-ORIGINAL-URL:https://www.aopa.lu
X-WR-CALDESC:Events for AOPA Luxembourg
BEGIN:VTIMEZONE
TZID:Europe/Luxembourg
BEGIN:DAYLIGHT
TZOFFSETFROM:+0100
TZOFFSETTO:+0200
TZNAME:CEST
DTSTART:20190331T010000
END:DAYLIGHT
BEGIN:STANDARD
TZOFFSETFROM:+0200
TZOFFSETTO:+0100
TZNAME:CET
DTSTART:20191027T010000
END:STANDARD
END:VTIMEZONE
BEGIN:VEVENT
DTSTART;VALUE=DATE:20190410
DTEND;VALUE=DATE:20190414
DTSTAMP:20210423T183443
CREATED:20190222T140242Z
LAST-MODIFIED:20190222T140440Z
UID:985-1554854400-1555199999@www.aopa.lu
SUMMARY:Event: Aero Friedrichshafen
DESCRIPTION:
URL:https://www.aopa.lu/index.php/event/event-aero-friedrichshafen/
LOCATION:Messe Friedrichshafen GmbH\, Neue Messe 1\, Friedrichshafen\, 88046\, Germany
ATTACH;FMTTYPE=image/png:https://www.aopa.lu/wp-content/uploads/logo-aero-expo.png
ORGANIZER;CN="Messe%20Friedrichshafen%20GmbH":MAILTO:info@messe-fn.de
END:VEVENT
END:VCALENDAR