BEGIN:VCALENDAR
VERSION:2.0
PRODID:-//CiviCRM//NONSGML CiviEvent iCal//EN
X-WR-TIMEZONE:Europe/Luxembourg
METHOD:PUBLISH
BEGIN:VEVENT
UID:CiviCRM_EventID_3_a35c1481f49176b429ed92b2e1b56c64@www.aopa.lu
SUMMARY:Luxembourg visit to Fly-In Saint YAN 2020
DESCRIPTION:\n \n The tentative program for the 2020 edition l
 ooks as follows:\n \n Tuesday September 22 :\n \n 
 \n 	6.30 pm : Flight Briefing per videoconference 
 for all registered participants from Luxembourg\n 
 \n \n Friday September 25:\n \n \n 	Afternoon: Rec
 eption of the Airmen crews\, training flights\n 	F
 irst airman crews of Luxembourg flying in.\n 	7 pm
  : Ap&eacute\;ritif and Pilot&#39\;s dinner (20&eu
 ro\; - wine included)\n 	Aviators Flea Market (Tro
 c Pit): Aero flea market and exchange: bring your 
 old things: plane parts or instruments\, objects\,
  documents\, toys ... only related to aeronautics.
  (Label your objects with name\, phone and desired
  price). Entrust tour items to the Fly-In voluntee
 rs. Free access flea market.\n \n \n Saturday Sept
 ember 26:\n \n \n 	Second batch of Luxembourg crew
 s flying in In the morning hours\, all flight crew
 s are expected to land (there are 2 concrete runwa
 ys and 1 grass runway) in between 10.30am and 11.3
 0am at latest\n \n \n \n 	Vintage cars exposition\
 n \n \n \n 	From 2pm till 6pm: International Air s
 how. We have for this year&#39\;s edition : &quot\
 ;T28\, T6\, Trojan\, Cri-Cri\, Broussards on patro
 l\, solo aerobatics in Cap of various engines\, an
 d in PITTS\, ZEPHYR\, DC3\, HUNTER\, MOYNET JUPITE
 R\, ULM\, GLIDER\, MORANE 733\, Patrol Aerobatic i
 n YAK ....&quot\;\n \n \n \n 	7 p.m : Aperitif and
  Pilot&#39\;s dinner at the main hangar (30&euro\;
  - wine included)\n 	Presentation honorary guests 
 from Luxembourg\n 	Award &quot\;Most Deserving Air
 craft Trophies&quot\;\n 	11pm : taxi or shuttle bu
 s to the Luxembourg delegation hotel\n \n \n Sunda
 y September 27:\n \n \n 	After breakfast taxi or s
 huttle bus to the airfield\n 	Treat yourself or yo
 ur partner to a flight in a jet plane\, in a histo
 ric or collection plane\n 	Lunch (Food Truck) at t
 he airfield\n 	Early afternoon: departure for Luxe
 mbourg of all flight crews\n \n \n If you like to 
 participate \, you are invited to do three things:
 \n \n \n 	- Let AOPA Luxembourg know you plan to a
 ttend by simply clicking the General Admission but
 ton on this site (Free access - no costs - we just
  collect your name\, email address and a phone num
 ber).\n 	- Let B&eacute\;atrice de Reynal and her 
 Saint YAN Fly IN team know you are coming by enter
 ing your plane details here: Registration of your 
 team at FLY-IN  (also at zero cost )\n 	Book your 
 hotel room. The Saint Yan organisation team arrang
 ed that all Luxembourg pilots will be staying at t
 he Hotel Saint Benoit at Gueugnon at some 25 km fr
 om the Saint Yan airfield. We have 3 types of room
 s available at attractive rates\, which you can bo
 ok by sending an email (preferred in French) to Ma
 dame Rachel Perny of the hotel Saint Benoit at sai
 ntbenoit@orange.fr \n \n \n \n 	Please mentioning 
 AOPA Luxembourg in the subject of your email\n 	In
 dicate the type of room you like to reserve as sin
 gle or double\, together with your expected date o
 f arrival and departure\n 	Indicate whether you or
 der a breakfast\n \n \n The 3 types of hotel rooms
  which are available:\n \n - Type &quot\;Privilige
 &quot\; (with bath or shower\, separate toilet\, w
 ifi\, TV) : 64&euro\;/night for a single room and 
 74&euro\;/night for a double room\n \n - Type &quo
 t\;Comfort&quot\; (with bath or shower\,toilet\, w
 ifi\, TV) : 54&euro\;/night for a single room and 
 64&euro\;/night for a double room\n \n - Type: &qu
 ot\;Initiale&quot\; ( en suite bathroom\, wifi\, s
 hower on the landing): 44&euro\;/night for a singl
 e room and 54&euro\;/night for a double room\n \n 
 - Breakfast is at 8&euro\; per person\n \n Please 
 note there are only a limited number of rooms in e
 ach category available\, so don&#39\;t postpone yo
 ur room reservation \, but please confirm it asap.
  That makes it easy for yourself.\n \n The organiz
 ation of Saint YAN Fly-In intends to publish lates
 t updates on their event here \, save this link an
 d check it prior to your departure.\n \n We&#39\;r
 e looking forward to have an enjoyable weekend at 
 Saint YAN.\n \n \n \n \n \n \n \n \n \n \n \n \n A
 OPA Luxembourg information on Saint YAN\n \n Saint
 -Yan is a village of Sa&ocirc\;ne-et-Loire\, in th
 e Bourgogne-Franche-Comt&eacute\; region\, 75 km w
 est of Macon and bordering Paray-le-Monial\, in th
 e north-east\, famous tourist town with a rich his
 torical heritage and religious\, labeled City of A
 rt and History.The 26 km&sup2\; communal area bord
 ers the Loire River to the west on the borders of 
 the department of Allier and belongs to the natura
 l and historical region of Charolais\, famous for 
 its cattle farms and its hilly landscape dotted wi
 th small patches of pastures surrounded by hedges 
 or dry stone walls.If agriculture is still present
  at Saint-Yan\, the village of about 1200 inhabita
 nts has gained international notoriety thanks to i
 ts aeronautical platform which developed from the 
 1950s\, became one of the bases of the National Sc
 hool of civil aviation. Historically\, the Air For
 ce created a relief airfield in 1938\, which was t
 ransformed into a large air base during the Second
  World War by the German occupation. Destroyed dur
 ing their retirement by the Nazis\, the airfield w
 as rebuilt after the Liberation and had a new voca
 tion from 1948.Economic lung of the locality\, the
  platform occupies 272 hectares.\n \n But the vill
 age has also preserved a historical heritage and a
 n environment that\, along with aviation-related r
 ecreation\, fully justify a milestone.\n \n \n 
CATEGORIES:Fly-In
CALSCALE:GREGORIAN
DTSTAMP;VALUE=DATE-TIME:20200925T090000
DTSTART;VALUE=DATE-TIME:20200925T090000
DTEND;VALUE=DATE-TIME:20200927T160000
URL:https://www.aopa.lu/index.php/2020/02/09/the-daring-silk-road-2/?civiwp=CiviCRM&q=civicrm%2Fevent%2Finfo&reset=1&id=3
END:VEVENT
END:VCALENDAR
